BEGIN:VCALENDAR
VERSION:2.0
PRODID:-//wp-events-plugin.com//7.1.7//EN
BEGIN:VEVENT
UID:646@locauxmotiv.fr
DTSTART:20151201T173000Z
DTEND:20151201T193000Z
DTSTAMP:20151129T164659Z
URL:https://locauxmotiv.fr/evenements/rendez-vous-codeurs-avec-les-voyageu
 rs-du-code/
SUMMARY:Rendez-vous #Codeurs avec les Voyageurs du Code
DESCRIPTION:Dans le cadre du partenariat entre Locaux Motiv' et Les Voya
 geurs du code\, nous sommes heureux de vous inviter à l'apéro de mardi 
 1er décembre à 18:30 pour échanger sur la possibilité de constituer u
 n réseau de codeurs sur Lyon. L'idée est simple : autour d'un verre\, me
 ttre en partage les envies de chacun.e à s'initier à la programmation nu
 mérique et/ou de transmettre ses compétences en la matière\, pour\, par
  exemple\, permettre l'organisation de multiples coding goûters à Locaux
  Motiv' !\n\nPlus d'info ici :  http://voyageursducode.fr/agenda/apero-v
 dc-aux-locaux-motiv.html
ATTACH;FMTTYPE=image/jpeg:https://locauxmotiv.fr/wp-content/uploads/2015/0
 8/voyageurs_header.png
CATEGORIES:Événements,Partenaires
END:VEVENT
END:VCALENDAR