BEGIN:VCALENDAR
VERSION:2.0
PRODID:-//wp-events-plugin.com//7.1.7//EN
BEGIN:VEVENT
UID:702@locauxmotiv.fr
DTSTART:20160208T170000Z
DTEND:20160208T190000Z
DTSTAMP:20160129T133624Z
URL:https://locauxmotiv.fr/evenements/quand-les-enfants-font-leur-pub-saff
 iche/
SUMMARY:"Quand les enfants font leur pub" s'affiche
DESCRIPTION:Venez découvrir à Locaux Motiv' les affiches réalisées par 
 3 classes de primaires dans le cadre du projet Ma Petite Agence.\n“Mange
 r plus de fruits et de légumes par jour”\, “Where dreams come true”
  : pour le meilleur comme pour le pire\, les enfants font vendre et sont d
 onc une cible privilégiée pour les publicitaires.\n\n&nbsp\;\n\nLa struc
 ture Fréquence écoles et la Métropole de Lyon\, mènent depuis deux ans
  auprès des élèves de primaire un projet de sensibilisation à la publi
 cité. Ma petite agence est un programme qui vise à développer le sens c
 ritique des enfants vis à vis de la publicité. Et pour comprendre les m
 écanismes de la pub rien de tel qu’une immersion au cœur du sujet. Ma 
 petite Agence propose donc 7 séances guidées pour apprendre à créer un
 e campagne. Les enfants apprennent à se questionner en maniant les outils
  numériques et en construisant l’argumentation nécessaire à une bonne
  publicité.\n\n&nbsp\;\n\nCette exposition d’affiches rend compte de la
  réflexion menée dans le cadre de ce programme.\n\nMa Petite Agence est 
 un outil pédagogique qui s’inscrit dans le Plan d'éducation au dévelo
 ppement durable de la Métropole de Lyon :\n\n	pour ne plus être seulemen
 t consommateurs d’écrans\, d’images et de messages\n	pour rendre les 
 jeunes autonomes\, critiques et acteurs de la socie te de l'information\n	
 pour les accompagner dans/sur les mondes numériques\n	pour permettre a to
 us les adultes - enseignants\, parents\, éducateurs ou animateurs – d
 ’acquérir une compétence.\n\nL’association Fréquence écoles\, reco
 nnue d’intérêt général\, donne depuis près de 20 ans aux jeunes et 
 aux acteurs éducatifs les moyens de décrypter la société de l'informat
 ion et de réfléchir aux perspectives éducatives à l'ère du numérique
  en concevant des outils et des parcours pédagogiques à destination des 
 professionnels de l’éducation.\n\nEn savoir plus sur le site internet d
 e Fréquence Ecoles – Télécharger le communiqué de presse en PDF\n\
 n&nbsp\;\n\nPartenaires du programme :\n\n
ATTACH;FMTTYPE=image/jpeg:https://locauxmotiv.fr/wp-content/uploads/2016/0
 1/MaPetiteAgenceJan2016.png
CATEGORIES:Événements,Partenaires
END:VEVENT
END:VCALENDAR