BEGIN:VCALENDAR
VERSION:2.0
PRODID:-//wp-events-plugin.com//7.1.7//EN
BEGIN:VEVENT
UID:1657@locauxmotiv.fr
DTSTART:20171206T170000Z
DTEND:20171206T200000Z
DTSTAMP:20171123T120036Z
URL:https://locauxmotiv.fr/evenements/marche-des-creatrices-et-createurs/
SUMMARY:Marché des créatrices et créateurs !
DESCRIPTION:Le rendez-vous est désormais presque traditionnel : notre apé
 ro-découverte se transforme comme chaque année en marché aux créations
  de tous types\, pour tous les goûts et les budgets !\n\nCartes\, tissus 
 et textiles\, tisanes\, baumes\, ébénisterie\, upcycling\, bijoux... Ven
 ez découvrir et/ou redécouvrir des habitué·e·s – et aussi des nouve
 lles cette année – autour d'un moment convivial.\n\n\n\nOn vous attend 
 le mercredi 06 décembre à partir de 18h à Locaux Motiv' !
ATTACH;FMTTYPE=image/jpeg:https://locauxmotiv.fr/wp-content/uploads/2017/1
 1/LM-Apéro-décembre-2017.jpg
CATEGORIES:Apéros du mercredi
END:VEVENT
END:VCALENDAR