BEGIN:VCALENDAR
VERSION:2.0
PRODID:-//wp-events-plugin.com//7.1.7//EN
BEGIN:VEVENT
UID:236@locauxmotiv.fr
DTSTART:20150923T133000Z
DTEND:20150923T163000Z
DTSTAMP:20230616T093956Z
URL:https://locauxmotiv.fr/evenements/les-voyageurs-du-code-atelier-de-cod
 e-pour-tou-te-s/
SUMMARY:Les Voyageurs du Code : atelier de code pour tou-te-s !
DESCRIPTION:Locaux Motiv' accueille Les voyageurs du code pour s'initier 
 collectivement à la programmation informatique et à la culture numériqu
 e.\n\nGratuit\, ouverts à toutes et tous sans connaissance numérique par
 ticulière\, ces ateliers ludiques répondent aux enjeux de la découverte
  et de l'apprentissage du numérique\, tant auprès des jeunes que des ac
 tifs ou encore des retraités !\n\nCe sera aussi l'occasion de relancer la
  saison des coding-goûters à Locaux Motiv' ! Bientôt plus d'infos sur 
 notre site.\n\nEt si vous deveniez vous aussi un Voyageur du code pour dif
 fuser autour de vous ce langage ?\n\nAccès libre et gratuit toute l'aprè
 s-midi*\, pour toutes et tous\, tous âges !\n\n(*pour des raisons de conf
 ort\, nous limiterons l'accès à 20 personnes en simultané maximum\, mer
 ci de votre compréhension)
ATTACH;FMTTYPE=image/jpeg:https://locauxmotiv.fr/wp-content/uploads/2015/0
 8/voyageurs_header.png
CATEGORIES:Événements
END:VEVENT
END:VCALENDAR