BEGIN:VCALENDAR
VERSION:2.0
PRODID:-//wp-events-plugin.com//7.1.7//EN
BEGIN:VEVENT
UID:1607@locauxmotiv.fr
DTSTART:20171004T173000Z
DTEND:20171004T193000Z
DTSTAMP:20170403T203039Z
URL:https://locauxmotiv.fr/evenements/lapero-doctobre-atelier-robotique-3/
SUMMARY:L'apéro d'octobre : atelier robotique #3 !
DESCRIPTION:Nouveau format pour les apéro-découvertes : en 2017\, un mois
  sur deux\, c'est apéro-atelier !\n\n\n\n\nCONCOURS DE ROBOTS !\n3 soiré
 es programmées : le 5 avril\, le 7 juin et le 4 octobre 2017 à Locaux M
 otiv' !\n\n\n\n\n\nApportez vos robots ou venez les fabriquer sur place !\
 nAvec l’aide de l’association Machine Gones\n\nNous partagerons un tem
 ps de bricolage (matériels fournis) et nous échangerons autour d’un ve
 rre.\nEt en deuxième partie\, tous les robots pourront participer à un c
 oncours festif (type HEBOCON).\n\n18:30 Accueil — 19:00 fabrication — 
 20:00 concours\nPensez à amener un petit quelque chose à partager !
ATTACH;FMTTYPE=image/jpeg:https://locauxmotiv.fr/wp-content/uploads/2017/0
 4/LM-Apéro-ATELIER.jpg
CATEGORIES:Apéros du mercredi
END:VEVENT
END:VCALENDAR