BEGIN:VCALENDAR
VERSION:2.0
PRODID:-//wp-events-plugin.com//7.1.7//EN
BEGIN:VEVENT
UID:235@locauxmotiv.fr
DTSTART:20150917T180000Z
DTEND:20150917T200000Z
DTSTAMP:20150820T163753Z
URL:https://locauxmotiv.fr/evenements/la-cooperative-dhabitants-pour-les-n
 uls-par-habicoop-aura/
SUMMARY:La coopérative d'habitants pour les nuls par Habicoop-AURA
DESCRIPTION:Venez échanger et débattre à Locaux Motiv' le 17 septembre 2
 015 sur le thème "Pourquoi vivre en coopérative d’habitants ?" par Ha
 bicoop-Aura\n\nAtelier participatif gratuit et ouvert à tous\, places lim
 itées\, sur inscription : cliquez ici pour vous inscrire !\n\n
ATTACH;FMTTYPE=image/jpeg:https://locauxmotiv.fr/wp-content/uploads/2015/0
 8/flyerHabicoop.jpg
CATEGORIES:Partenaires
END:VEVENT
END:VCALENDAR