BEGIN:VCALENDAR
VERSION:2.0
PRODID:-//wp-events-plugin.com//7.1.7//EN
BEGIN:VEVENT
UID:1791@locauxmotiv.fr
DTSTART:20190912T120000Z
DTEND:20190912T130000Z
DTSTAMP:20190911T153720Z
URL:https://locauxmotiv.fr/evenements/jeudiwe-forum-des-gr-groupes-de-resp
 onsabilites/
SUMMARY:JeudiWe - Forum des GR (Groupes de responsabilités)
DESCRIPTION:Ce jeudi 12 septembre\, c'est la rentrée des GR qui font tourn
 er le projet Locaux Motiv' !\nUn moment de partage de l'actualité et de l
 a responsabilité des GR afin de mobiliser et de faire émerger des idées
  et les envies d'implication.\nOuvert à toutes et tous !\n\nQue vous soye
 z adhérent·es à Locaux Motiv'\, habitant·es du quartier de la Guilloti
 ère\, salarié·es et/ou bénévoles des structures du quartier ou tout s
 implement curieuses·x\, rejoignez nous chaque Jeudi à 13h pour échanger
  sur une thématique particulière\, partager une compétence\, un savoir-
 faire... avec votre gamelle (que vous pouvez également partager !).\n\nEt
  si vous avez vous aussi l'envie de partager une idée ou un savoir-faire 
 qui vous tient à cœur\, n'hésitez pas à le proposer (un jeudi par sema
 ine = 52 jeudis = 52 thématiques possibles par an (ou presque)) !\n\nRend
 ez-vous au 10bis Rue Jangot\, au cœur de la Guillotière !
ATTACH;FMTTYPE=image/jpeg:https://locauxmotiv.fr/wp-content/uploads/2015/0
 5/BandeauJeudiWe.jpg
CATEGORIES:JeudiWe
END:VEVENT
END:VCALENDAR