BEGIN:VCALENDAR
VERSION:2.0
PRODID:-//wp-events-plugin.com//7.1.7//EN
BEGIN:VEVENT
UID:1772@locauxmotiv.fr
DTSTART:20190328T120000Z
DTEND:20190328T130000Z
DTSTAMP:20190306T135422Z
URL:https://locauxmotiv.fr/evenements/jeudiwe-dessinons-locaux-motiv/
SUMMARY:JeudiWe - "Dessinons" Locaux Motiv'
DESCRIPTION:Brainstorming créatif pour dessiner collectivement une nouvell
 e ébauche de la personnalité/identité de Locaux Motiv'\n\n-------------
 ----------------------------\n\nQue vous soyez adhérent·es à Locaux Mot
 iv'\, habitant·es du quartier de la Guillotière\, salarié·es et/ou bé
 névoles des structures du quartier ou tout simplement curieuses·x\, rejo
 ignez nous chaque Jeudi à 13h pour échanger sur une thématique particul
 ière\, partager une compétence\, un savoir-faire... avec votre gamelle (
 que vous pouvez également partager !).\n\nEt si vous avez vous aussi l'en
 vie de partager une idée ou un savoir-faire qui vous tient à cœur\, n'h
 ésitez pas à le proposer (un jeudi par semaine = 52 jeudis = 52 thémati
 ques possibles par an (ou presque)) !\n\nRendez-vous au 10bis Rue Jangot\,
  au cœur de la Guillotière !
ATTACH;FMTTYPE=image/jpeg:https://locauxmotiv.fr/wp-content/uploads/2015/0
 5/BandeauJeudiWe.jpg
CATEGORIES:JeudiWe
END:VEVENT
END:VCALENDAR