BEGIN:VCALENDAR
VERSION:2.0
PRODID:-//wp-events-plugin.com//7.1.7//EN
BEGIN:VEVENT
UID:1597@locauxmotiv.fr
DTSTART:20171109T120000Z
DTEND:20171109T130000Z
DTSTAMP:20171106T090410Z
URL:https://locauxmotiv.fr/evenements/jeudiwe-2017-11-09/
SUMMARY:JeudiWe - Langues comme Une
DESCRIPTION:Les fondatrices de l'association "Langues comme Une" présenten
 t leur projet !\n\nLangue comme Une se propose de favoriser l’accès à 
 la communication en français à des personnes pour qui la maîtrise parti
 elle de la langue peut constituer un facteur d’exclusion. Nous animons d
 es actions linguistiques solidaires s’adressant en priorité et sans con
 dition aux personnes se retrouvant dans une situation de dépendance "ling
 uistique" et ne pouvant accéder aux dispositifs de formation de droit com
 mun\, faute de place disponibles ou de propositions appropriées et adapt
 ées à leurs besoins langagiers.\n\nCe JeudiWe sera l'occasion de présen
 ter l'association\, son projet\, les avancées mais aussi les difficultés
  et les doutes qu'elle rencontre !\n\nQue vous soyez adhérents à Locaux 
 Motiv'\, habitants du quartier de la Guillotière\, salarié-es et/ou bén
 évoles des structures du quartier ou tout simplement curieux\, rejoignez 
 nous chaque Jeudi à 13h pour échanger sur une thématique particulière\
 , partager une compétence\, un savoir-faire... avec votre gamelle (que vo
 us pouvez également partager !).\n\nEt si vous avez vous aussi l'envie de
  partager une idée ou un savoir-faire qui vous tient à cœur\, n'hésite
 z pas à le proposer ! (un jeudi par semaine = 52 jeudis = 52 thématiques
  possibles par an !)\n\nRendez-vous au 10bis Rue Jangot\, au cœur de la G
 uillotière !
ATTACH;FMTTYPE=image/jpeg:https://locauxmotiv.fr/wp-content/uploads/2015/0
 5/bandeaujeudiwe.jpg
CATEGORIES:JeudiWe
END:VEVENT
END:VCALENDAR