BEGIN:VCALENDAR
VERSION:2.0
PRODID:-//wp-events-plugin.com//7.1.7//EN
BEGIN:VEVENT
UID:1592@locauxmotiv.fr
DTSTART:20171005T120000Z
DTEND:20171005T130000Z
DTSTAMP:20171003T111548Z
URL:https://locauxmotiv.fr/evenements/jeudiwe-2017-10-05/
SUMMARY:JeudiWe - Des ostéos à vélo !
DESCRIPTION:Caroline Bouin de Cycl’ostéo vient nous en dire plus sur les
  seuls ostéos de France qui ont fait le choix de réaliser leurs consulta
 tions d’ostéopathie à domicile en se déplaçant uniquement à vélo !
  Une aventure d’ostéos à bicyclette qui dure depuis plus de 2 ans et q
 ui roule. C'est dans l'objectif d'agrandir leur peloton de partenaires que
  désormais Cycl'ostéo propose ses services aux entreprises et aux espace
 s de coworking.\n\nRDV le 05 octobre pour mieux comprendre l'intérêt des
  consultations ostéopathiques à domicile ou en entreprise et du vélo co
 mme moyen de transport!\n\n***********************************************
 **************************************************************\n\nQue vous
  soyez adhérents à Locaux Motiv'\, habitants du quartier de la Guilloti
 ère\, salarié-es et/ou bénévoles des structures du quartier ou tout si
 mplement curieux\, rejoignez nous chaque Jeudi à 13h pour échanger sur u
 ne thématique particulière\, partager une compétence\, un savoir-faire.
 .. avec votre gamelle (que vous pouvez également partager !).\n\nEt si vo
 us avez vous aussi l'envie de partager une idée ou un savoir-faire qui vo
 us tient à cœur\, n'hésitez pas à le proposer ! (un jeudi par semaine 
 = 52 jeudis = 52 thématiques possibles par an !)\n\nRendez-vous au 10bis 
 Rue Jangot\, au cœur de la Guillotière !
ATTACH;FMTTYPE=image/jpeg:https://locauxmotiv.fr/wp-content/uploads/2015/0
 5/bandeaujeudiwe.jpg
CATEGORIES:JeudiWe
END:VEVENT
END:VCALENDAR