BEGIN:VCALENDAR
VERSION:2.0
PRODID:-//wp-events-plugin.com//7.1.7//EN
BEGIN:VEVENT
UID:1590@locauxmotiv.fr
DTSTART:20170921T120000Z
DTEND:20170921T130000Z
DTSTAMP:20170912T074402Z
URL:https://locauxmotiv.fr/evenements/jeudiwe-2017-09-21/
SUMMARY:JeudiWe - "Créons "Maintenant"\, une coopérative immobilière"
DESCRIPTION:Présentation d'un projet d'habitat coopératif inspiré du mod
 èle des coopératives d'habitants\, et visant à lutter contre la spécul
 ation immobilière en constituant un parc de logements sortis du marché.\
 nRésumé:\nLes coopératives d’habitants proposent une alternative trè
 s intéressante à la propriété et à la location sur le marché immobil
 ier. Elles offrent en effet une autre approche du logement\, et sont porte
 uses d’une critique de la propriété privée\, individuelle et lucrativ
 e. Seul problème\, il n’y en a pas assez aujourd’hui. Ne reste plus a
 lors qu’à en créer des centaines\, des milliers. Problème\, chaque pr
 ojet prend des années à voir le jour… De quoi décourager d’éventue
 ls candidats. En adoptant une logique d’habitat coopératif diffus\, à 
 partir du parc immobilier existant\, et en s’engageant à suivre les coo
 pérateurs à chaque déménagement\, une coopérative immobilière permet
 trait de lever les freins qui ralentissent aujourd’hui le développement
  des coopératives d’habitants. Créons dès maintenant cette coopérati
 ve immobilière !\nN'hésitez pas à indiquer votre présence ou partager
  ce rendez-vous via l'événement Facebook !\n\nEt pour en savoir plus\, r
 etrouvez l'interview de Baptiste Mylondo sur Médiacités\, le média mét
 ropolitain d'investigation (sur abonnement).\n\nQue vous soyez adhérents 
 à Locaux Motiv'\, habitants du quartier de la Guillotière\, salarié-es 
 et/ou bénévoles des structures du quartier ou tout simplement curieux\, 
 rejoignez nous chaque Jeudi à 13h pour échanger sur une thématique part
 iculière\, partager une compétence\, un savoir-faire... avec votre gamel
 le (que vous pouvez également partager !).\n\nEt si vous avez vous aussi 
 l'envie de partager une idée ou un savoir-faire qui vous tient à cœur\,
  n'hésitez pas à le proposer ! (un jeudi par semaine = 52 jeudis = 52 th
 ématiques possibles par an !)\n\nRendez-vous au 10bis Rue Jangot\, au cœ
 ur de la Guillotière !
ATTACH;FMTTYPE=image/jpeg:https://locauxmotiv.fr/wp-content/uploads/2015/0
 5/bandeaujeudiwe.jpg
CATEGORIES:JeudiWe
END:VEVENT
END:VCALENDAR