BEGIN:VCALENDAR
VERSION:2.0
PRODID:-//wp-events-plugin.com//7.1.7//EN
BEGIN:VEVENT
UID:459@locauxmotiv.fr
DTSTART:20151217T120000Z
DTEND:20151217T130000Z
DTSTAMP:20151129T163301Z
URL:https://locauxmotiv.fr/evenements/jeudiwe-2015-12-17/
SUMMARY:JeudiWe avec Mireille d'Allance
DESCRIPTION:Mireille d'Allance présente ses stages de création d'albums i
 llustrés ouverts à tou.te.s !\n\n&nbsp\;\n\nJeudiWe ?\n\nQue vous soyez 
 adhérents à Locaux Motiv'\, habitants du quartier de la Guillotière\, s
 alarié-es et/ou bénévoles des structures du quartier ou tout simplement
  curieux\, rejoignez nous chaque Jeudi à 13h pour échanger sur une thém
 atique particulière\, partager une compétence\, un savoir-faire... avec 
 votre gamelle (que vous pouvez également partager !).\n\nEt si vous avez 
 vous aussi l'envie de partager une idée ou un savoir-faire qui vous tient
  à cœur\, n'hésitez pas à le proposer ! (un jeudi par semaine = 52 jeu
 dis = 52 thématiques possibles par an !)\n\nRendez-vous au 10bis Rue Jang
 ot\, au cœur de la Guillotière !
ATTACH;FMTTYPE=image/jpeg:https://locauxmotiv.fr/wp-content/uploads/2015/0
 5/bandeaujeudiwe.jpg
CATEGORIES:Rendez-vous réguliers
END:VEVENT
END:VCALENDAR