BEGIN:VCALENDAR
VERSION:2.0
PRODID:-//wp-events-plugin.com//7.1.7//EN
BEGIN:VEVENT
UID:453@locauxmotiv.fr
DTSTART:20151105T120000Z
DTEND:20151105T130000Z
DTSTAMP:20151026T185453Z
URL:https://locauxmotiv.fr/evenements/jeudiwe-2015-11-05/
SUMMARY:JeudiWe avec Demain en mains
DESCRIPTION:Demain en mains vous propose de découvrir son organe de presse
  alternative grand public !\n\nJeudiWe ?\n\nQue vous soyez adhérents à L
 ocaux Motiv'\, habitants du quartier de la Guillotière\, salarié-es et/o
 u bénévoles des structures du quartier ou tout simplement curieux\, rejo
 ignez nous chaque Jeudi à 13h pour échanger sur une thématique particul
 ière\, partager une compétence\, un savoir-faire... avec votre gamelle (
 que vous pouvez également partager !).\n\nEt si vous avez vous aussi l'en
 vie de partager une idée ou un savoir-faire qui vous tient à cœur\, n'h
 ésitez pas à le proposer ! (un jeudi par semaine = 52 jeudis = 52 théma
 tiques possibles par an !)\n\nRendez-vous au 10bis Rue Jangot\, au cœur d
 e la Guillotière !
ATTACH;FMTTYPE=image/jpeg:https://locauxmotiv.fr/wp-content/uploads/2015/0
 5/bandeaujeudiwe.jpg
CATEGORIES:Rendez-vous réguliers
END:VEVENT
END:VCALENDAR