BEGIN:VCALENDAR
VERSION:2.0
PRODID:-//wp-events-plugin.com//7.1.7//EN
BEGIN:VEVENT
UID:449@locauxmotiv.fr
DTSTART:20151008T120000Z
DTEND:20151008T130000Z
DTSTAMP:20150917T152706Z
URL:https://locauxmotiv.fr/evenements/jeudiwe-2015-10-08/
SUMMARY:JeudiWe spécial organisation interne Locaux Motiv'
DESCRIPTION:Un mix des commissions vous propose un temps d'échanges autou
 r de "la sécurité à Locaux Motiv': accès\, codes\, badges - fixons le
 s règles ensemble"\n\n&nbsp\;\n\nJeudiWe ?\n\nQue vous soyez adhérents 
 à Locaux Motiv'\, habitants du quartier de la Guillotière\, salarié-es 
 et/ou bénévoles des structures du quartier ou tout simplement curieux\, 
 rejoignez nous chaque Jeudi à 13h pour échanger sur une thématique part
 iculière\, partager une compétence\, un savoir-faire... avec votre gamel
 le (que vous pouvez également partager !).\n\nEt si vous avez vous aussi 
 l'envie de partager une idée ou un savoir-faire qui vous tient à cœur\,
  n'hésitez pas à le proposer ! (un jeudi par semaine = 52 jeudis = 52 th
 ématiques possibles par an !)\n\nRendez-vous au 10bis Rue Jangot\, au cœ
 ur de la Guillotière !
ATTACH;FMTTYPE=image/jpeg:https://locauxmotiv.fr/wp-content/uploads/2015/0
 5/bandeaujeudiwe.jpg
CATEGORIES:Rendez-vous réguliers
END:VEVENT
END:VCALENDAR