BEGIN:VCALENDAR
VERSION:2.0
PRODID:-//wp-events-plugin.com//7.1.7//EN
BEGIN:VEVENT
UID:448@locauxmotiv.fr
DTSTART:20151001T120000Z
DTEND:20151001T130000Z
DTSTAMP:20150917T152529Z
URL:https://locauxmotiv.fr/evenements/jeudiwe-2015-10-01/
SUMMARY:JeudiWe avec OSE\, l'orchestre
DESCRIPTION:OSE présente son 1er CD avec un échange autour du développ
 ement des choix artistiques et du modèle économique d'un orchestre.\n\nJ
 eudiWe ?\n\nQue vous soyez adhérents à Locaux Motiv'\, habitants du quar
 tier de la Guillotière\, salarié-es et/ou bénévoles des structures du 
 quartier ou tout simplement curieux\, rejoignez nous chaque Jeudi à 13h p
 our échanger sur une thématique particulière\, partager une compétence
 \, un savoir-faire... avec votre gamelle (que vous pouvez également parta
 ger !).\n\nEt si vous avez vous aussi l'envie de partager une idée ou un 
 savoir-faire qui vous tient à cœur\, n'hésitez pas à le proposer ! (un
  jeudi par semaine = 52 jeudis = 52 thématiques possibles par an !)\n\nRe
 ndez-vous au 10bis Rue Jangot\, au cœur de la Guillotière !
ATTACH;FMTTYPE=image/jpeg:https://locauxmotiv.fr/wp-content/uploads/2015/0
 5/bandeaujeudiwe.jpg
CATEGORIES:Rendez-vous réguliers
END:VEVENT
END:VCALENDAR