BEGIN:VCALENDAR
VERSION:2.0
PRODID:-//wp-events-plugin.com//7.1.7//EN
BEGIN:VEVENT
UID:447@locauxmotiv.fr
DTSTART:20150924T120000Z
DTEND:20150924T130000Z
DTSTAMP:20150917T152332Z
URL:https://locauxmotiv.fr/evenements/jeudiwe-2015-09-24/
SUMMARY:JeudiWe avec Emmanuelle Jouas (Locaux Motiv')\, "Projet Jeun'ESS d'
 Or : késako ?"
DESCRIPTION:Que vous soyez adhérents à Locaux Motiv'\, habitants du quart
 ier de la Guillotière\, salarié-es et/ou bénévoles des structures du q
 uartier ou tout simplement curieux\, rejoignez nous chaque Jeudi à 13h po
 ur échanger sur une thématique particulière\, partager une compétence\
 , un savoir-faire... avec votre gamelle (que vous pouvez également partag
 er !).\n\nEt si vous avez vous aussi l'envie de partager une idée ou un s
 avoir-faire qui vous tient à cœur\, n'hésitez pas à le proposer ! (un 
 jeudi par semaine = 52 jeudis = 52 thématiques possibles par an !)\n\nRen
 dez-vous au 10bis Rue Jangot\, au cœur de la Guillotière !
ATTACH;FMTTYPE=image/jpeg:https://locauxmotiv.fr/wp-content/uploads/2015/0
 5/bandeaujeudiwe.jpg
CATEGORIES:Rendez-vous réguliers
END:VEVENT
END:VCALENDAR