BEGIN:VCALENDAR
VERSION:2.0
PRODID:-//wp-events-plugin.com//7.1.7//EN
BEGIN:VEVENT
UID:102@locauxmotiv.fr
DTSTART:20150528T120000Z
DTEND:20150528T130000Z
DTSTAMP:20150527T165741Z
URL:https://locauxmotiv.fr/evenements/jeudiwe-2015-05-28/
SUMMARY:JeudiWe : présentation du projet EXIT
DESCRIPTION:EXIT est le premier projet entré en incubation à Locaux Motiv
 '\, dans le cadre du partenariat avec Ronalpia.\nAnne-Laure Letourneux\, p
 orteuse du projet\, vient nous présenter son projet de création d'une re
 cyclerie basée dans le quartier de La Guillotière.\n[su_button url="http
 ://ronalpia.fr/" target="blank" style="flat" background="#F29402" wide="ye
 s" center="yes" radius="0" icon="icon: plus-circle"]Plus d'infos [/su_butt
 on]\nJeudiWe ?\n\nQue vous soyez adhérents à Locaux Motiv'\, habitants d
 u quartier de la Guillotière\, salarié-es et/ou bénévoles des structur
 es du quartier ou tout simplement curieux\, rejoignez nous chaque Jeudi à
  13 h pour échanger sur une thématique particulière\, partager une comp
 étence\, un savoir-faire... avec votre gamelle (que vous pouvez égalemen
 t partager !).\n Et si vous avez vous aussi l'envie de partager une idée 
 ou un savoir-faire qui vous tient à cœur\, n'hésitez pas à le proposer
  ! (un jeudi par semaine = 52 jeudis = 52 thématiques possibles par an !)
ATTACH;FMTTYPE=image/jpeg:https://locauxmotiv.fr/wp-content/uploads/2015/0
 5/BandeauJeudiWe.jpg
CATEGORIES:Rendez-vous réguliers
END:VEVENT
END:VCALENDAR