BEGIN:VCALENDAR
VERSION:2.0
PRODID:-//wp-events-plugin.com//7.1.7//EN
BEGIN:VEVENT
UID:1742@locauxmotiv.fr
DTSTART:20190704T120000Z
DTEND:20190704T130000Z
DTSTAMP:20190702T070545Z
URL:https://locauxmotiv.fr/evenements/jeudiwe-2-2019-07-04/
SUMMARY:JeudiWe - Locaux Motiv' dans son quartier
DESCRIPTION:Roman\,  Service Civique à Locaux Motiv' a travaillé pendant
  sa mission sur la relation de Locaux Motiv' à son quartier. Ce JeudiWe s
 era l'occasion de faire le point sur ce travail ! A 13:00 tapantes dans le
  hall.\n\n________________________________________________________________
 ______________________\n\nQue vous soyez adhérent·es à Locaux Motiv'\, 
 habitant·es du quartier de la Guillotière\, salarié·es et/ou bénévol
 es des structures du quartier ou tout simplement curieuses·x\, rejoignez 
 nous chaque Jeudi à 13 h pour échanger sur une thématique particulière
 \, partager une compétence\, un savoir-faire... avec votre gamelle (que v
 ous pouvez également partager !).\n\nEt si vous avez vous aussi l'envie d
 e partager une idée ou un savoir-faire qui vous tient à cœur\, n'hésit
 ez pas à le proposer (un jeudi par semaine = 52 jeudis = 52 thématiques 
 possibles par an (ou presque)) !\n\nRendez-vous au 10bis Rue Jangot\, au c
 œur de la Guillotière !
ATTACH;FMTTYPE=image/jpeg:https://locauxmotiv.fr/wp-content/uploads/2015/0
 5/BandeauJeudiWe.jpg
CATEGORIES:JeudiWe
END:VEVENT
END:VCALENDAR