BEGIN:VCALENDAR
VERSION:2.0
PRODID:-//wp-events-plugin.com//7.1.7//EN
BEGIN:VEVENT
UID:1736@locauxmotiv.fr
DTSTART:20190523T120000Z
DTEND:20190523T130000Z
DTSTAMP:20181207T100109Z
URL:https://locauxmotiv.fr/evenements/jeudiwe-2-2019-05-23/
SUMMARY:JeudiWe
DESCRIPTION:Que vous soyez adhérent·es à Locaux Motiv'\, habitant·es du
  quartier de la Guillotière\, salarié·es et/ou bénévoles des structur
 es du quartier ou tout simplement curieuses·x\, rejoignez nous chaque Jeu
 di à 13h pour échanger sur une thématique particulière\, partager une 
 compétence\, un savoir-faire... avec votre gamelle (que vous pouvez égal
 ement partager !).\n\nEt si vous avez vous aussi l'envie de partager une i
 dée ou un savoir-faire qui vous tient à cœur\, n'hésitez pas à le pro
 poser (un jeudi par semaine = 52 jeudis = 52 thématiques possibles par an
  (ou presque)) !\n\nRendez-vous au 10bis Rue Jangot\, au cœur de la Guill
 otière !
ATTACH;FMTTYPE=image/jpeg:https://locauxmotiv.fr/wp-content/uploads/2015/0
 5/BandeauJeudiWe.jpg
CATEGORIES:JeudiWe
END:VEVENT
END:VCALENDAR