BEGIN:VCALENDAR
VERSION:2.0
PRODID:-//wp-events-plugin.com//7.1.7//EN
BEGIN:VEVENT
UID:1726@locauxmotiv.fr
DTSTART:20190314T120000Z
DTEND:20190314T130000Z
DTSTAMP:20190306T135158Z
URL:https://locauxmotiv.fr/evenements/jeudiwe-2-2019-03-14/
SUMMARY:JeudiWe  - Unloc 3 : La transition numérique des structures de l'E
 SSE
DESCRIPTION:Locaux Motiv'\, avec Tadaa\, la Fabrique à liens et Framasoft 
 développe "UNLOC3" : une plate-forme pour accompagner le développement d
 es usages collaboratifs libres des petites structures de l'ESSE.\n\nCe Jeu
 diWe sera l'occasion de faire le point sur l'avancée du projet et de ques
 tionner le nom de la prochaine plateforme !\n\nRendez-vous à 13h jeudi 14
  mars dans le hall de Locaux Motiv  avec votre sandwich ou gamelle !\n\n-
 -----------------------------------\n\nQue vous soyez adhérent·es à Loc
 aux Motiv'\, habitant·es du quartier de la Guillotière\, salarié·es et
 /ou bénévoles des structures du quartier ou tout simplement curieuses·x
 \, rejoignez nous chaque Jeudi à 13h pour échanger sur une thématique p
 articulière\, partager une compétence\, un savoir-faire... avec votre ga
 melle (que vous pouvez également partager !).\n\nEt si vous avez vous aus
 si l'envie de partager une idée ou un savoir-faire qui vous tient à cœu
 r\, n'hésitez pas à le proposer (un jeudi par semaine = 52 jeudis = 52 t
 hématiques possibles par an (ou presque)) !\n\nRendez-vous au 10bis Rue J
 angot\, au cœur de la Guillotière !
ATTACH;FMTTYPE=image/jpeg:https://locauxmotiv.fr/wp-content/uploads/2015/0
 5/BandeauJeudiWe.jpg
CATEGORIES:Événements,JeudiWe
END:VEVENT
END:VCALENDAR