BEGIN:VCALENDAR
VERSION:2.0
PRODID:-//wp-events-plugin.com//7.1.7//EN
BEGIN:VEVENT
UID:1725@locauxmotiv.fr
DTSTART:20190307T120000Z
DTEND:20190307T130000Z
DTSTAMP:20190306T111243Z
URL:https://locauxmotiv.fr/evenements/jeudiwe-2-2019-03-07/
SUMMARY:JeudiWe - A la rencontre d'Ecosila
DESCRIPTION:Ecosila a pour objectif de créer et développer du lien entre 
 nouveaux arrivants (demandeurs d'asile\, réfugiés\,...) et communauté l
 ocale\, à travers les problématiques environnementales contemporaines. L
 'association aspire au développement d'une société plus ouverte sur l'a
 utre et à une prise de conscience des enjeux environnementaux actuels. Ec
 osila mène donc deux projets majeurs.\n\n\nD'une part\, l'organisation de
  soirées de rencontre avec des intervenants autour de sujets liés à l'e
 nvironnement et aux migrations (une est organisée demain à Hévéa\, voi
 r pièce jointe).\n\n\n D'autre part\, des formations gratuites de cinq jo
 urs sur l'environnement durant lesquels les participants assisteront à de
 s cours et feront du bénévolat.\n\nPour plus d'explications\, rendez-vou
 s à 13h jeudi 7 mars dans le hall de Locaux Motiv  avec votre sandwich o
 u gamelle !\n\n-----------------------------------------------------------
 --------------------------------------------------------------------------
 --------------------------------------------------------------------------
 ---\n\nQue vous soyez adhérent·es à Locaux Motiv'\, habitant·es du qua
 rtier de la Guillotière\, salarié·es et/ou bénévoles des structures d
 u quartier ou tout simplement curieuses·x\, rejoignez nous chaque Jeudi 
 à 13h pour échanger sur une thématique particulière\, partager une com
 pétence\, un savoir-faire... avec votre gamelle (que vous pouvez égaleme
 nt partager !).\n\nEt si vous avez vous aussi l'envie de partager une idé
 e ou un savoir-faire qui vous tient à cœur\, n'hésitez pas à le propos
 er (un jeudi par semaine = 52 jeudis = 52 thématiques possibles par an (o
 u presque)) !\n\nRendez-vous au 10bis Rue Jangot\, au cœur de la Guilloti
 ère !
ATTACH;FMTTYPE=image/jpeg:https://locauxmotiv.fr/wp-content/uploads/2015/0
 5/BandeauJeudiWe.jpg
CATEGORIES:JeudiWe
END:VEVENT
END:VCALENDAR