BEGIN:VCALENDAR
VERSION:2.0
PRODID:-//wp-events-plugin.com//7.1.7//EN
BEGIN:VEVENT
UID:1717@locauxmotiv.fr
DTSTART:20190110T120000Z
DTEND:20190110T130000Z
DTSTAMP:20190108T112607Z
URL:https://locauxmotiv.fr/evenements/jeudiwe-2-2019-01-10/
SUMMARY:JeudiWe - Animacoop - Se former à animer de façon collaborative !
DESCRIPTION:Ce jeudi 10 janvier c'est un JeudiWe "spécial coopération" et
  ouvert à toutes et tous qui sera proposé.\n\nEn un heure\, Jeff\, co-in
 itiateur de l'implantation à Lyon de la formation\, Vanessa et Stéphanie
  (résidentes à Locaux Motiv' qui ont suivi la session de l'automne 2018)
  partageront avec vous les secrets de la formation Animacoop : Se former 
 à animer des projets de manière collaborative !\n\nQue vous soyez intér
 essé.e par cette formation (qui aura lieu à nouveau au printemps)\, que 
 vous soyez curieux.se de ce qu'est une animation coopérative\, que vous a
 yez envie de découvrir les ressources proposées en libre accès\, vous 
 êtes le.a bienvenue !\n\nA 13:00 à Locaux Motiv'.\n\n___________________
 __________________________________________________________________________
 ______________________________________\n\nQue vous soyez adhérent·es à 
 Locaux Motiv'\, habitant·es du quartier de la Guillotière\, salarié·es
  et/ou bénévoles des structures du quartier ou tout simplement curieuses
 ·x\, rejoignez nous chaque Jeudi à 13h pour échanger sur une thématiqu
 e particulière\, partager une compétence\, un savoir-faire... avec votre
  gamelle (que vous pouvez également partager !).\n\nEt si vous avez vous 
 aussi l'envie de partager une idée ou un savoir-faire qui vous tient à c
 œur\, n'hésitez pas à le proposer (un jeudi par semaine = 52 jeudis = 5
 2 thématiques possibles par an (ou presque)) !\n\nRendez-vous au 10bis Ru
 e Jangot\, au cœur de la Guillotière !
ATTACH;FMTTYPE=image/jpeg:https://locauxmotiv.fr/wp-content/uploads/2015/0
 5/BandeauJeudiWe.jpg
CATEGORIES:Événements,JeudiWe
END:VEVENT
END:VCALENDAR