BEGIN:VCALENDAR
VERSION:2.0
PRODID:-//wp-events-plugin.com//7.1.7//EN
BEGIN:VEVENT
UID:1050@locauxmotiv.fr
DTSTART:20170119T173000Z
DTEND:20170119T190000Z
DTSTAMP:20170116T140601Z
URL:https://locauxmotiv.fr/evenements/formation-au-code-1ere-session-par-l
 ocaux-motiv-et-framasoft/
SUMMARY:Formation "Transmettre le code en s'amusant !" par Locaux Motiv' et
  Framasoft
DESCRIPTION:Locaux Motiv' &amp\; Framasoft proposent une formation\n"Tran
 smettre le code en s'amusant !"\n\n\n\n\n\n 	Curieuse ou curieux de ces n
 ouvelles pratiques numériques\, vous êtes motivé.e.s pour découvrir le
 s occasions offertes par le codage ?\n 	Professionnel.le.s ou non\, besoi
 n de clés pour développer des animations ludiques de découverte du code
  ?\n 	Friand.e.s des coding goûters\, envie d'aller plus loin dans votre 
 pratique du code ?\n\n\n\n\n\n\n5 séances pour découvrir et approfondir
  Scratch\, et apprendre la programmation\, de jeux ou autres\, l'utilis
 ation de la technique Arduino... Dans l'fun !\nLa 1ère session est ouvert
 e pour la période janvier-février 2017 !\n\n\n\n\n\n\n\n\nAttention\, ch
 angement de dates !\n\nCette session s'étale sur 5 jeudis\, de 18h30 à 2
 0h : les jeudis 26 janvier\, 2\, 9\, 16 et 23 février. Un engagement est
  nécessaire sur l'ensemble des 5 séances.\n\nAccessibles à toutes et to
 us\, sur inscription\, sans prérequis !\n\nTarif pour les 5 séances\, s
 i vous venez à titre professionnel : 120€TTC / autrement : 24€TTC\n
 \nPlus d'informations et inscriptions : emeric.agboton (@robase) locauxmot
 iv.fr !\n\n
ATTACH;FMTTYPE=image/jpeg:https://locauxmotiv.fr/wp-content/uploads/2017/0
 1/bandeau-afficheformationcode2017.png
CATEGORIES:Formation
END:VEVENT
END:VCALENDAR