BEGIN:VCALENDAR
VERSION:2.0
PRODID:-//wp-events-plugin.com//7.1.7//EN
BEGIN:VEVENT
UID:579@locauxmotiv.fr
DTSTART:20151117T170000Z
DTEND:20151117T190000Z
DTSTAMP:20151013T162120Z
URL:https://locauxmotiv.fr/evenements/entrepreneur-social-en-devenir-a-la-
 rencontre-dun-incubateur/
SUMMARY:Entrepreneur social en devenir ? Venez rencontrer un incubateur !
DESCRIPTION:En écho avec le mois de l'ESS\, Locaux Motiv' propose aux entr
 epreneurs sociaux en devenir de venir rencontrer Ronalpia\, incubateur de 
 projets socialement innovants. Ronalpia propose aux entrepreneurs de proto
 typer\, développer et lancer leur entreprise en intégrant un incubateur.
 \nLe recrutement d'une nouvelle promotion est en cours (et ce jusqu'au 27 
 novembre).\n\nDeux heures de rencontres\, d'échanges ouverts et de conviv
 ialité pour découvrir les modalités de candidature de la promo #3.\n\nR
 encontre ouverte à tous - entrepreneurs en devenir ou non !\n\nRetrouver 
 l'information sur l'agenda du mois de l'ESS.\n\nCrédit image: ronalpia
ATTACH;FMTTYPE=image/jpeg:https://locauxmotiv.fr/wp-content/uploads/2015/1
 0/homepage-slide2.jpg
CATEGORIES:Événements,Partenaires
END:VEVENT
END:VCALENDAR