BEGIN:VCALENDAR
VERSION:2.0
PRODID:-//wp-events-plugin.com//7.1.7//EN
BEGIN:VEVENT
UID:1714@locauxmotiv.fr
DTSTART:20180919T173000Z
DTEND:20180919T200000Z
DTSTAMP:20180911T160645Z
URL:https://locauxmotiv.fr/evenements/aperoloco-mercredi-19-septembre-la-r
 entree/
SUMMARY:ApéroLoco mercredi 19 septembre : La rentrée !!
DESCRIPTION:C'est la rentrée à Locaux Motiv' !! Pour ce nouvel Apéro nou
 s vous proposons de venir vous détendre autour du thème "jolie rentrée"
  !\n\nAu programme : des surprises\, du partage\, de l'énergie communicat
 ive !\n\nUne belle atmosphère de rentrée dont vous pourrez profiter le m
 ercredi 19 septembre à partir de 18h30 ! Si vous le souhaitez\, amener un
  petit "souvenir de vacances" à partager pour le buffet.\n\nNous vous att
 endons donc au 10bis rue Jangot pour marquer la rentrée avec vous !!\n\n
ATTACH;FMTTYPE=image/jpeg:https://locauxmotiv.fr/wp-content/uploads/2018/0
 9/AperoSeptembreLM_smaller.png
CATEGORIES:Apéros du mercredi,Événements,Rendez-vous réguliers
END:VEVENT
END:VCALENDAR