BEGIN:VCALENDAR
VERSION:2.0
PRODID:-//wp-events-plugin.com//7.1.7//EN
BEGIN:VEVENT
UID:647@locauxmotiv.fr
DTSTART:20160106T173000Z
DTEND:20160106T200000Z
DTSTAMP:20160104T190911Z
URL:https://locauxmotiv.fr/evenements/apero-decouverte-le-genocide-des-tut
 si-au-rwanda-si-loin-si-proche/
SUMMARY:Apéro-découverte : le Génocide des Tutsi au Rwanda\, si loin ? s
 i proche !
DESCRIPTION:\n\n\nLe Génocide des Tutsi au Rwanda: si loin? si proche!Quel
 s enseignements ont été tirés du dernier génocide du XXe siècle? Qu'e
 n savez-vous ? Comment souhaiteriez-vous apprendre et chercher à comprend
 re? Ibuka veut dire "Souviens-toi" en Kinyarwanda\, c'est le nom d'une as
 sociation dont la section Rhône-Alpes est domicilée à Locaux Motiv'. El
 le milite pour la mémoire du génocide des Tutsi\, la justice et le souti
 en aux rescapés. Rassemblant les survivants\, les familles de victimes et
  toutes les personnes sensibles à ces sujets\, Ibuka développe des activ
 ités pour informer le grand public sur le Génocide de 1994\, ses causes 
 et ses conséquences et ainsi contribuer à la lutte contre le racisme en 
 témoignant du besoin d'acceptation de la différence.3/ Programme (18:30-
 21:00)18:30 Accueil autour de l'exposition 19:00 Présentation d'Ibuka 
 et de ses projets et échanges avec les participants19:45 Échanges autou
 r d’un verre\n\n\n
ATTACH;FMTTYPE=image/jpeg:https://locauxmotiv.fr/wp-content/uploads/2016/0
 1/LM-Ap--ro-janvier-2016.jpg
CATEGORIES:Apéros du mercredi
END:VEVENT
END:VCALENDAR