BEGIN:VCALENDAR
VERSION:2.0
PRODID:-//wp-events-plugin.com//7.1.7//EN
BEGIN:VEVENT
UID:648@locauxmotiv.fr
DTSTART:20160203T173000Z
DTEND:20160203T203000Z
DTSTAMP:20160128T155747Z
URL:https://locauxmotiv.fr/evenements/apero-decouverte-et-si-on-degooglisa
 it-internet-avec-framasoft/
SUMMARY:Apéro-découverte : et si on dégooglisait internet ? Avec Framas
 oft
DESCRIPTION:Par l'association Framasoft\, réseau de promotion de la cultu
 re libre et du logiciel libre.\n\nL'emprise de Google\, Apple\, Facebook\,
  Amazon ou Microsoft ne cesse de croître. Non seulement sur internet\, m
 ais aussi dans bien d'autres domaines (robotique\, automobile\, santé\, 
 presse\, média\, etc). L'association Framasoft s'est fixée l'ambitieuse
  mission de montrer qu'il était possible - grâce au logiciel libre - de
  résister à la colonisation d'internet et à marchandisation de notre v
 ie privée.
ATTACH;FMTTYPE=image/jpeg:https://locauxmotiv.fr/wp-content/uploads/2016/0
 1/LM-Ap--ro-f--vrier-2016.jpg
CATEGORIES:Apéros du mercredi
END:VEVENT
END:VCALENDAR