BEGIN:VCALENDAR
VERSION:2.0
PRODID:-//wp-events-plugin.com//7.1.7//EN
BEGIN:VEVENT
UID:578@locauxmotiv.fr
DTSTART:20151104T173000Z
DTEND:20151104T203000Z
DTSTAMP:20151026T181542Z
URL:https://locauxmotiv.fr/evenements/apero-decouverte-4-novembre-entrepre
 neur-et-socialement-responsable-la-voie-a-suivre/
SUMMARY:Apéro-découverte : entrepreneur et socialement responsable\, la v
 oie à suivre ?
DESCRIPTION:En écho avec le mois de l'ESS\, Locaux Motiv' organise son ap
 éro mensuel autour du thème "Entrepreneur et socialement responsable\, l
 a voie à suivre ?". \n\nLocaux Motiv' invite des porteurs de projets de 
 deux incubateurs lyonnais (Alter'Incub et Ronalpia) à venir pitcher en pu
 blic.\n\nCela sera l'occasion d'échanger avec les incubateurs et les "inc
 ubés" sur la façon dont le responsabilité sociale et/ou sociétale est 
 "entrepreneurialement compatible" !\n\nL'organisation de la soirée est fi
 dèle au cadre des apéros-découvertes du 1er mercredi du mois :\n\n	18:3
 0 : accueil convivial\n	19:00 : place aux pitchs !\n	20:00 : échanges aut
 our d'un verre - et de ce que chacun.e amenera à grignoter\n\n&nbsp\;
ATTACH;FMTTYPE=image/jpeg:https://locauxmotiv.fr/wp-content/uploads/2015/1
 0/LM-Ap--ro-nov-2015.jpg
CATEGORIES:Apéros du mercredi,Rendez-vous réguliers
END:VEVENT
END:VCALENDAR